BEGIN:VCALENDAR
VERSION:2.0
PRODID:-//AFIK - ECPv6.15.20//NONSGML v1.0//EN
CALSCALE:GREGORIAN
METHOD:PUBLISH
X-WR-CALNAME:AFIK
X-ORIGINAL-URL:https://afik.or.ke
X-WR-CALDESC:Events for AFIK
REFRESH-INTERVAL;VALUE=DURATION:PT1H
X-Robots-Tag:noindex
X-PUBLISHED-TTL:PT1H
BEGIN:VTIMEZONE
TZID:UTC
BEGIN:STANDARD
TZOFFSETFROM:+0000
TZOFFSETTO:+0000
TZNAME:UTC
DTSTART:20240101T000000
END:STANDARD
END:VTIMEZONE
BEGIN:VEVENT
DTSTART;TZID=UTC:20251102T080000
DTEND;TZID=UTC:20251102T170000
DTSTAMP:20260425T184721
CREATED:20251002T130500Z
LAST-MODIFIED:20251102T130652Z
UID:1157-1762070400-1762102800@afik.or.ke
SUMMARY:The Singapore FinTech Festival (SFF)
DESCRIPTION:Singapore FinTech Festival 2025 \n  \nNovember 2025 | Singapore \n  \nJoin the World’s Premier FinTech Gathering \n  \nThe Singapore FinTech Festival (SFF) is the global epicenter where finance\, technology\, and policy converge to shape the future of financial services. As the world’s largest FinTech event\, SFF brings together visionary leaders\, innovative startups\, and industry pioneers to collaborate on building a more resilient\, inclusive\, and trustworthy financial ecosystem. \n  \nWhat to Expect \n  \nInsights Forum: Two days of intensive discussions featuring keynote addresses from global thought leaders\, expert panel discussions\, and deep-dive sessions on the technologies and trends transforming finance. \n  \nInnovation Showcase: Explore breakthrough solutions across multiple content stages\, where startups and established players demonstrate cutting-edge innovations in AI\, quantum computing\, tokenization\, and sustainable finance. \n  \nGlobal FinTech Hackcelerator: Watch emerging startups pitch transformative ideas and compete for recognition\, investment\, and partnerships that will accelerate their growth. \n  \nUnparalleled Networking: Connect with policymakers\, regulators\, investors\, technology experts\, and financial services leaders from across the globe in curated networking sessions and informal meetups. \n  \nKey Focus Areas \n  \nThe festival explores critical intersections of financial innovation\, technology\, and policy\, including artificial intelligence and machine learning revolutionizing risk management and customer experience\, quantum computing as the next frontier in computational power\, digital assets and tokenization navigating blockchain and cryptocurrencies\, sustainable finance driving ESG initiatives and climate action\, financial inclusion expanding access to underserved communities\, and talent development addressing the skills gap in digital finance. \n  \nWho Attends \n  \nSFF attracts a diverse community of changemakers\, including government policymakers\, financial regulators\, banking executives\, insurance leaders\, venture capitalists\, angel investors\, technology innovators\, academic researchers\, and FinTech entrepreneurs from over 100 countries. \n  \nOrganized By \n  \nThe Singapore FinTech Festival is a collaborative effort between the Monetary Authority of Singapore\, Global Finance & Technology Network\, and Constellar\, in partnership with the Association of Banks in Singapore. \n  \nReady to be part of the future of finance? Join us this November in Singapore for an experience that will challenge your thinking\, expand your network\, and inspire innovation.
URL:https://afik.or.ke/events/the-singapore-fintech-festival-sff/
END:VEVENT
BEGIN:VEVENT
DTSTART;TZID=UTC:20251031T080000
DTEND;TZID=UTC:20251031T170000
DTSTAMP:20260425T184721
CREATED:20251031T200225Z
LAST-MODIFIED:20251031T200225Z
UID:1148-1761897600-1761930000@afik.or.ke
SUMMARY:
DESCRIPTION:
URL:https://afik.or.ke/events/1148/
END:VEVENT
BEGIN:VEVENT
DTSTART;TZID=UTC:20251031T080000
DTEND;TZID=UTC:20251031T170000
DTSTAMP:20260425T184721
CREATED:20251031T195544Z
LAST-MODIFIED:20251031T195823Z
UID:1143-1761897600-1761930000@afik.or.ke
SUMMARY:SSF MEET UP
DESCRIPTION:
URL:https://afik.or.ke/events/ssf-meet-up/
END:VEVENT
END:VCALENDAR